BEGIN:VCALENDAR
VERSION:2.0
PRODID:-//Postgrados - Universidad Finis Terrae - ECPv6.15.20//NONSGML v1.0//EN
CALSCALE:GREGORIAN
METHOD:PUBLISH
X-ORIGINAL-URL:https://postgrado.finis.cl
X-WR-CALDESC:Eventos para Postgrados - Universidad Finis Terrae
REFRESH-INTERVAL;VALUE=DURATION:PT1H
X-Robots-Tag:noindex
X-PUBLISHED-TTL:PT1H
BEGIN:VTIMEZONE
TZID:America/Sao_Paulo
BEGIN:STANDARD
TZOFFSETFROM:-0300
TZOFFSETTO:-0300
TZNAME:-03
DTSTART:20250101T000000
END:STANDARD
END:VTIMEZONE
BEGIN:VEVENT
DTSTART;VALUE=DATE:20260313
DTEND;VALUE=DATE:20260321
DTSTAMP:20260419T185223
CREATED:20251126T023709Z
LAST-MODIFIED:20251126T023721Z
UID:1084-1773360000-1774051199@postgrado.finis.cl
SUMMARY:PSICOLOG GRAL Y DEL DESARROLLO
DESCRIPTION:
URL:https://postgrado.finis.cl/event/psicolog-gral-y-del-desarrollo/
END:VEVENT
BEGIN:VEVENT
DTSTART;TZID=America/Sao_Paulo:20260320T100000
DTEND;TZID=America/Sao_Paulo:20260320T190000
DTSTAMP:20260419T185223
CREATED:20251126T025231Z
LAST-MODIFIED:20251126T025231Z
UID:1087-1774000800-1774033200@postgrado.finis.cl
SUMMARY:TALLER INICIAC EXPLOR CREATIV
DESCRIPTION:
URL:https://postgrado.finis.cl/event/taller-iniciac-explor-creativ/
END:VEVENT
BEGIN:VEVENT
DTSTART;TZID=America/Sao_Paulo:20260321T100000
DTEND;TZID=America/Sao_Paulo:20260321T190000
DTSTAMP:20260419T185223
CREATED:20251126T025324Z
LAST-MODIFIED:20251126T025324Z
UID:1089-1774087200-1774119600@postgrado.finis.cl
SUMMARY:TALLER INICIAC EXPLOR CREATIV
DESCRIPTION:
URL:https://postgrado.finis.cl/event/taller-iniciac-explor-creativ-2/
END:VEVENT
END:VCALENDAR